BEGIN:VCALENDAR
VERSION:2.0
PRODID:-//Nachrichten Kaiserslautern - ECPv6.15.20//NONSGML v1.0//EN
CALSCALE:GREGORIAN
METHOD:PUBLISH
X-WR-CALNAME:Nachrichten Kaiserslautern
X-ORIGINAL-URL:https://www.nachrichten-kl.de
X-WR-CALDESC:Veranstaltungen für Nachrichten Kaiserslautern
REFRESH-INTERVAL;VALUE=DURATION:PT1H
X-Robots-Tag:noindex
X-PUBLISHED-TTL:PT1H
BEGIN:VTIMEZONE
TZID:Europe/Berlin
BEGIN:DAYLIGHT
TZOFFSETFROM:+0100
TZOFFSETTO:+0200
TZNAME:CEST
DTSTART:20240331T010000
END:DAYLIGHT
BEGIN:STANDARD
TZOFFSETFROM:+0200
TZOFFSETTO:+0100
TZNAME:CET
DTSTART:20241027T010000
END:STANDARD
BEGIN:DAYLIGHT
TZOFFSETFROM:+0100
TZOFFSETTO:+0200
TZNAME:CEST
DTSTART:20250330T010000
END:DAYLIGHT
BEGIN:STANDARD
TZOFFSETFROM:+0200
TZOFFSETTO:+0100
TZNAME:CET
DTSTART:20251026T010000
END:STANDARD
BEGIN:DAYLIGHT
TZOFFSETFROM:+0100
TZOFFSETTO:+0200
TZNAME:CEST
DTSTART:20260329T010000
END:DAYLIGHT
BEGIN:STANDARD
TZOFFSETFROM:+0200
TZOFFSETTO:+0100
TZNAME:CET
DTSTART:20261025T010000
END:STANDARD
END:VTIMEZONE
BEGIN:VEVENT
DTSTART;TZID=Europe/Berlin:20251212T150000
DTEND;TZID=Europe/Berlin:20251212T190000
DTSTAMP:20260422T222204
CREATED:20251127T140431Z
LAST-MODIFIED:20251127T140431Z
UID:142053-1765551600-1765566000@www.nachrichten-kl.de
SUMMARY:Jugendreferat lädt wieder zum „Weihnachtsgedöns“
DESCRIPTION:Nach dem das vorweihnachtliche Beisammensein in und um den Jugendtreff Betzenberg im letzten Jahr einen sehr großen Zuspruch erfahren hat\, haben sich die Veranstalter – die Abteilung Jugendarbeit / Jugendsozialarbeit der Stadt – neuerlich für den Standort Betzenberg entschieden. Am Freitag\, den 12. Dezember\, wird es in und um den Jugendtreff am Betzenberg weihnachtlich. Alle Kinder und Jugendlichen mit ihren Familien sind herzlich eingeladen!\nVon 15 bis 19 Uhr gibt es neben Spielen\, einer Weihnachtsbäckerei\, Punsch und Würstchen auch ein weihnachtliches Basteln sowie die ein oder andere Überraschung. Auch der Weihnachtsmann hat sich bereits angekündigt. Für Sportbegeisterte und diejenigen\, die es etwas weniger besinnlich mögen\, warten Torwandschießen\, Tischkicker\, ein Tipp-Kick-Turnier und mobile Basketballkörbe auf die Besucher.\nMöglich wird diese tolle Veranstaltung in dem Gemeinwesen Betzenberg durch die Unterstützung des Amazon Logistikzentrums in Kaiserslautern und der BKK Pfaff Kaiserslautern. Das Team der Jugendarbeit freut sich auf eine besinnliche Vorweihnachtsfeier! \n\n\n \n\n—–\nQuelle Text/Bild:\nPressestelle der Stadtverwaltung Kaiserslautern\nWilly-Brandt-Platz 1\, 67657 Kaiserslautern\nwww.kaiserslautern.de \nKaiserslautern\, 27.11.2025 \n#kaiserslautern #kaiserslauterngermany #Lautern #nachrichtenkl #Stadtverwaltungkl #StadtverwaltungKaiserslautern #pfalz #westpfalz #stadtkl
URL:https://www.nachrichten-kl.de/event/jugendreferat-laedt-wieder-zum-weihnachtsgedoens/
LOCATION:Jugendtreff am Betzenberg
ATTACH;FMTTYPE=image/jpeg:https://www.nachrichten-kl.de/wp-content/uploads/2025/11/Weihnachtsgedoens_Betzenberg_2025_Poster.jpg
END:VEVENT
END:VCALENDAR