BEGIN:VCALENDAR
VERSION:2.0
PRODID:-//Nachrichten Kaiserslautern - ECPv6.15.20//NONSGML v1.0//EN
CALSCALE:GREGORIAN
METHOD:PUBLISH
X-ORIGINAL-URL:https://www.nachrichten-kl.de
X-WR-CALDESC:Veranstaltungen für Nachrichten Kaiserslautern
REFRESH-INTERVAL;VALUE=DURATION:PT1H
X-Robots-Tag:noindex
X-PUBLISHED-TTL:PT1H
BEGIN:VTIMEZONE
TZID:Europe/Berlin
BEGIN:DAYLIGHT
TZOFFSETFROM:+0100
TZOFFSETTO:+0200
TZNAME:CEST
DTSTART:20240331T010000
END:DAYLIGHT
BEGIN:STANDARD
TZOFFSETFROM:+0200
TZOFFSETTO:+0100
TZNAME:CET
DTSTART:20241027T010000
END:STANDARD
BEGIN:DAYLIGHT
TZOFFSETFROM:+0100
TZOFFSETTO:+0200
TZNAME:CEST
DTSTART:20250330T010000
END:DAYLIGHT
BEGIN:STANDARD
TZOFFSETFROM:+0200
TZOFFSETTO:+0100
TZNAME:CET
DTSTART:20251026T010000
END:STANDARD
BEGIN:DAYLIGHT
TZOFFSETFROM:+0100
TZOFFSETTO:+0200
TZNAME:CEST
DTSTART:20260329T010000
END:DAYLIGHT
BEGIN:STANDARD
TZOFFSETFROM:+0200
TZOFFSETTO:+0100
TZNAME:CET
DTSTART:20261025T010000
END:STANDARD
END:VTIMEZONE
BEGIN:VEVENT
DTSTART;TZID=Europe/Berlin:20251202T120000
DTEND;TZID=Europe/Berlin:20251202T130000
DTSTAMP:20260424T173727
CREATED:20251126T173857Z
LAST-MODIFIED:20251126T173857Z
UID:141932-1764676800-1764680400@www.nachrichten-kl.de
SUMMARY:Seniorenbeirat lädt zum gemeinsamen Mittagessen
DESCRIPTION:Der Seniorenbeirat lädt am 2. Dezember 2025 um 12:00 Uhr zum gemeinsamen Mittagessen ins Ristorante Medici ein. Um Anmeldung wird gebeten bei Helga Bäcker per email\nhelga.bac@t-online.de \n\n\n \nQuelle Text/Bild:\nSeniorenbeirat\nRathaus\, EG Zimmer 22\nWilly-Brandt-Platz 1\n67657 Kaiserslautern \nwww.aktiv-in-lautern.de \nKaiserslautern\, 26.11.2025
URL:https://www.nachrichten-kl.de/event/seniorenbeirat-laedt-zum-gemeinsamen-mittagessen/
ATTACH;FMTTYPE=image/jpeg:https://www.nachrichten-kl.de/wp-content/uploads/2022/03/Seniorenbeirat-KL-Logo.jpg
END:VEVENT
END:VCALENDAR