BEGIN:VCALENDAR
VERSION:2.0
PRODID:-//Nachrichten Kaiserslautern - ECPv6.15.20//NONSGML v1.0//EN
CALSCALE:GREGORIAN
METHOD:PUBLISH
X-ORIGINAL-URL:https://www.nachrichten-kl.de
X-WR-CALDESC:Veranstaltungen für Nachrichten Kaiserslautern
REFRESH-INTERVAL;VALUE=DURATION:PT1H
X-Robots-Tag:noindex
X-PUBLISHED-TTL:PT1H
BEGIN:VTIMEZONE
TZID:Europe/Berlin
BEGIN:DAYLIGHT
TZOFFSETFROM:+0100
TZOFFSETTO:+0200
TZNAME:CEST
DTSTART:20250330T010000
END:DAYLIGHT
BEGIN:STANDARD
TZOFFSETFROM:+0200
TZOFFSETTO:+0100
TZNAME:CET
DTSTART:20251026T010000
END:STANDARD
BEGIN:DAYLIGHT
TZOFFSETFROM:+0100
TZOFFSETTO:+0200
TZNAME:CEST
DTSTART:20260329T010000
END:DAYLIGHT
BEGIN:STANDARD
TZOFFSETFROM:+0200
TZOFFSETTO:+0100
TZNAME:CET
DTSTART:20261025T010000
END:STANDARD
BEGIN:DAYLIGHT
TZOFFSETFROM:+0100
TZOFFSETTO:+0200
TZNAME:CEST
DTSTART:20270328T010000
END:DAYLIGHT
BEGIN:STANDARD
TZOFFSETFROM:+0200
TZOFFSETTO:+0100
TZNAME:CET
DTSTART:20271031T010000
END:STANDARD
END:VTIMEZONE
BEGIN:VEVENT
DTSTART;TZID=Europe/Berlin:20260501T193000
DTEND;TZID=Europe/Berlin:20260501T203000
DTSTAMP:20260421T083545
CREATED:20260419T132929Z
LAST-MODIFIED:20260419T132929Z
UID:148724-1777663800-1777667400@www.nachrichten-kl.de
SUMMARY:Die schwarze Spinne - Eine Novelle von Jeremias Gotthelf
DESCRIPTION:1.Mai 19:30 Uhr Waldschlösschen der KWG. \nEine szenische Lesung.\nEindringlich erzählt der Schauspieler Christian Klischat ( Staatstheater Wiesbaden) von den Kräften des Guten\, den Mächten des Bösen\, von Gottlosigkeit\, Sünde\, Schuld und Sühne.–\nUnd was hat es mit dieser Spinne wohl auf sich? \nDie schwarze Spinne von Jeremias Gotthelf\nmit Christian Klischat\n1. Mai im Waldschlösschen der KWG\, Bremerstr 12\, Kaiserslautern\nBeginn: 19.30 Uhr\nEnde: ca. 21.00 Uhr\nEintritt frei\, Spenden erwünscht \n\n\n \n\n————\nQuelle Text/Bild:\nKünstlerwerkgemeinschaft Kaiserslautern e.V.\nWaldschlösschen\nBremerstraße 12\n67663 Kaiserslautern\nwww.kuenstlerwerkgemeinschaft.de \nKaiserslautern\, 19.04.2026
URL:https://www.nachrichten-kl.de/event/die-schwarze-spinne-eine-novelle-von-jeremias-gotthelf/
LOCATION:Waldschlösschen\, Bremerstr.12\, Kaiserslautern\, 67663
ATTACH;FMTTYPE=image/jpeg:https://www.nachrichten-kl.de/wp-content/uploads/2026/04/22-1.jpeg
END:VEVENT
END:VCALENDAR