BEGIN:VCALENDAR
VERSION:2.0
PRODID:-//Nachrichten Kaiserslautern - ECPv6.15.20//NONSGML v1.0//EN
CALSCALE:GREGORIAN
METHOD:PUBLISH
X-ORIGINAL-URL:https://www.nachrichten-kl.de
X-WR-CALDESC:Veranstaltungen für Nachrichten Kaiserslautern
REFRESH-INTERVAL;VALUE=DURATION:PT1H
X-Robots-Tag:noindex
X-PUBLISHED-TTL:PT1H
BEGIN:VTIMEZONE
TZID:Europe/Berlin
BEGIN:DAYLIGHT
TZOFFSETFROM:+0100
TZOFFSETTO:+0200
TZNAME:CEST
DTSTART:20240331T010000
END:DAYLIGHT
BEGIN:STANDARD
TZOFFSETFROM:+0200
TZOFFSETTO:+0100
TZNAME:CET
DTSTART:20241027T010000
END:STANDARD
BEGIN:DAYLIGHT
TZOFFSETFROM:+0100
TZOFFSETTO:+0200
TZNAME:CEST
DTSTART:20250330T010000
END:DAYLIGHT
BEGIN:STANDARD
TZOFFSETFROM:+0200
TZOFFSETTO:+0100
TZNAME:CET
DTSTART:20251026T010000
END:STANDARD
BEGIN:DAYLIGHT
TZOFFSETFROM:+0100
TZOFFSETTO:+0200
TZNAME:CEST
DTSTART:20260329T010000
END:DAYLIGHT
BEGIN:STANDARD
TZOFFSETFROM:+0200
TZOFFSETTO:+0100
TZNAME:CET
DTSTART:20261025T010000
END:STANDARD
END:VTIMEZONE
BEGIN:VEVENT
DTSTART;TZID=Europe/Berlin:20251031T193000
DTEND;TZID=Europe/Berlin:20251031T220000
DTSTAMP:20260425T125406
CREATED:20251017T130321Z
LAST-MODIFIED:20251017T130321Z
UID:139691-1761939000-1761948000@www.nachrichten-kl.de
SUMMARY:Jazzbühne meets Musical - Fruchthalle
DESCRIPTION:„Jazzbühne meets Musical“ heißt es beim zweiten Konzert der Jazzbühne in der neuen Saison. Am Freitag\, 31. Oktober 2025\, 19:30 Uhr\, hat das Jazz-Trio die Sängerin Elisa Rehlinger und den Sänger Martin Herrmann\, die die Gäste der Fruchthalle Kaiserslautern an diesem Abend in eine Welt aus großen Melodien und bewegenden Geschichten entführen werden.\nWenn große Stimmen aufeinandertreffen: Ein Abend voller Magie\, Emotionen und musikalischer Vielfalt erwartet Sie bei „Jazzbühne meets Musical“! Die gefeierten\nMusical-Sänger Elisa Rehlinger und Martin Herrmann aus dem Saarland verbinden die packende Dramatik des Musicals mit der mitreißenden Freiheit des Jazz und entführen das Publikum in eine Welt aus großen Melodien und bewegenden Geschichten. Mit ihren ausdrucksstarken Stimmen und ihrer Bühnenpräsenz begeistern sie mit Highlights aus berühmten Musicals\, jazzigen Neuinterpretationen und überraschenden Crossover-\nArrangements. Von gefühlvollen Balladen bis hin zu energiegeladenen Showstoppern – dieser Abend verspricht Gänsehautmomente und musikalische Highlights – emotional\,\nvirtuos und unvergesslich! \nDie „Jazzbühne“ ist eine seit mehr als 20 Jahren sehr erfolgreiche Konzertreihe\, die von Beginn an eine in Deutschland einzigartige Konzeption verfolgt. Die Rhythmusgruppe als Kernbesetzung mit Martin Preiser (Klavier)\, Stefan Engelmann (Bass) und Michael Lakatos (Schlagwerk) überzeugt dabei mit renommierten und internationalen Gastmusikerinnen und -musikern unterschiedlicher Genres\, die zu einem Konzert eingeladen werden. Das Ergebnis dieser Begegnungen ist stets ein Improvisationskonzert\, in der die Musik der Gäste mit der Musik der Gastgeber spontan fusionieren\, in der die Grenzen zwischen den Stilen miteinander verschmelzen. Jedem Improvisationskonzert geht nur eine Generalprobe voran\, in der sich die Gastgeber und ihre Gastmusikerinnen und Gastmusiker zum ersten Mal begegnen\, gemeinsam musikalische Rahmen erarbeiten und unmittelbare Einblicke in ihre Musikarbeiten bieten. \nAls zweite innovative Konzeption verwirklichte die Jazzbühne seit 2010 eine klimaneutrale Konzertreihe. Im Kontext der weltweiten Bemühungen um Energieeffizienz und Klimaschutz werden die CO2-Emissionen\, die durch den Energieverbrauch aufgrund der Konzertreihe verursacht werden\, durch die Aufforstung CO2-fixierender Waldflächen überkompensiert. Die beauftragte Klimaschutzorganisation bewirkt so\, dass das verursachte CO2 nicht zusätzlich als klimaschädliches Treibhausgas in die Atmosphäre gelangt. Damit ist die Jazzbühne die erste klimaneutrale Konzertreihe Deutschlands. \nKarten für 18\,00 Euro\, ermäßigt 13\,00 Euro\, gibt es im Vorverkauf in der Tourist-Information\, Fruchthallstraße 14\, Tel. (0631) 365-2316\, beim Thalia Ticketservice unter Tel. (0631) 36219-814 und bei allen weiteren VVK-Stellen (Ticket-Hotline: 01806-57 00 00) oder im Internet unter www.eventim.deoder www.fruchthalle.de. \n\n\n \n\n—————————————————–\n#kaiserslautern #kaiserslauterngermany #Lautern #nachrichtenkl #Kulturkl #fruchthallekl #Kulturlivestream \nQuelle Text/Bild:\nStadtverwaltung Kaiserslautern\nReferat Kultur\nFruchthalle / Fruchthallstr. 10\n67653 Kaiserslautern \nwww.kaiserlautern.de \nKaiserslautern\, 17.10.2025
URL:https://www.nachrichten-kl.de/event/jazzbuehne-meets-musical-fruchthalle/
LOCATION:Fruchthalle
ATTACH;FMTTYPE=image/jpeg:https://www.nachrichten-kl.de/wp-content/uploads/2025/10/Elisa-Rehlinger_c_Michael-Nellinger_klein.jpg
END:VEVENT
END:VCALENDAR