BEGIN:VCALENDAR
VERSION:2.0
PRODID:-//Nachrichten Kaiserslautern - ECPv6.15.20//NONSGML v1.0//EN
CALSCALE:GREGORIAN
METHOD:PUBLISH
X-WR-CALNAME:Nachrichten Kaiserslautern
X-ORIGINAL-URL:https://www.nachrichten-kl.de
X-WR-CALDESC:Veranstaltungen für Nachrichten Kaiserslautern
REFRESH-INTERVAL;VALUE=DURATION:PT1H
X-Robots-Tag:noindex
X-PUBLISHED-TTL:PT1H
BEGIN:VTIMEZONE
TZID:Europe/Berlin
BEGIN:DAYLIGHT
TZOFFSETFROM:+0100
TZOFFSETTO:+0200
TZNAME:CEST
DTSTART:20250330T010000
END:DAYLIGHT
BEGIN:STANDARD
TZOFFSETFROM:+0200
TZOFFSETTO:+0100
TZNAME:CET
DTSTART:20251026T010000
END:STANDARD
BEGIN:DAYLIGHT
TZOFFSETFROM:+0100
TZOFFSETTO:+0200
TZNAME:CEST
DTSTART:20260329T010000
END:DAYLIGHT
BEGIN:STANDARD
TZOFFSETFROM:+0200
TZOFFSETTO:+0100
TZNAME:CET
DTSTART:20261025T010000
END:STANDARD
BEGIN:DAYLIGHT
TZOFFSETFROM:+0100
TZOFFSETTO:+0200
TZNAME:CEST
DTSTART:20270328T010000
END:DAYLIGHT
BEGIN:STANDARD
TZOFFSETFROM:+0200
TZOFFSETTO:+0100
TZNAME:CET
DTSTART:20271031T010000
END:STANDARD
END:VTIMEZONE
BEGIN:VEVENT
DTSTART;TZID=Europe/Berlin:20260221T140000
DTEND;TZID=Europe/Berlin:20260221T150000
DTSTAMP:20260422T201622
CREATED:20260209T142746Z
LAST-MODIFIED:20260209T142746Z
UID:145464-1771682400-1771686000@www.nachrichten-kl.de
SUMMARY:Deutsch-spanische Autorenlesung mit Yolanda Prieto Pardo
DESCRIPTION:Am 21. Februar 2026 um 14:00 Uhr lädt das Kabinett K2 zu einer besonderen deutsch-spanischen Autorenlesung mit der Autorin Yolanda Prieto Pardo ein. Gelesen wird aus ihrem Werk „Meine 50 spanischen Cousinen“\, einem poetischen Panorama von Frauen\, Familiengeschichten und Lebenswegen zwischen Spanien und der Welt.\nYolanda Prieto Pardo porträtiert mit feiner\, poetischer Sprache starke und außergewöhnliche Frauencharaktere — Frauen\, die die große weite Welt entdecken\, während die Welt sie entdeckt. In „Meine 50 spanischen Cousinen“ verbindet sie Humor und Melancholie\, Erinnerung und Gegenwart zu einem vielstimmigen literarischen Familiengeflecht. Die Lesung findet in deutscher und spanischer Sprache statt und eröffnet einen lebendigen Dialog zwischen Kulturen\, Generationen und Lebensentwürfen.\nDie Veranstaltung wird moderiert von der SWR-Journalistin Sabine Keller\, die durch das literarische Gespräch führt und im Anschluss Raum für Fragen und Austausch mit der Autorin eröffnet. \nProgramm:\n14:00 Uhr – Begrüßung\n14:10 Uhr – Deutsch-spanische Lesung aus „Meine 50 spanischen Cousinen“\nanschließend – Gespräch mit der Autorin (Moderation: Sabine Keller\, SWR)\nAusklang und Begegnung \n\n\n \nKurzbiografie — Yolanda Prieto Pardo:\nYolanda Prieto Pardo wurde 1968 in Madrid geboren und lebt seit vielen Jahren in Frankfurt am Main. Sie arbeitet als Autorin\, Journalistin und Kulturmanagerin und engagiert sich für den literarischen Austausch zwischen Spanien\, Lateinamerika und Deutschland.\nSeit 1995 ist sie im kulturellen und publizistischen Umfeld in Deutschland tätig und moderiert regelmäßig zweisprachige Literaturveranstaltungen mit Autorinnen und Autoren spanischsprachiger Herkunft. Darüber hinaus leitet sie einen spanischsprachigen Buchclub am Instituto Cervantes in Frankfurt und fördert den interkulturellen Dialog durch Literatur und Begegnung.\nIn ihren literarischen Texten widmet sie sich insbesondere interkulturellen Erfahrungen\, weiblichen Lebensgeschichten und den vielfältigen Facetten von Familie und Migration. Neben ihrem Erzählband „Meine 50 spanischen Cousinen“ veröffentlichte sie weitere literarische und journalistische Arbeiten und war an verschiedenen Buchprojekten beteiligt\, die sich mit kulturellen Lebenswegen zwischen zwei Kontinenten beschäftigen. \nVeranstaltungsort:\nKabinett K2\n67655 Kaiserslautern\, Königstraße 34 \nDie Veranstaltung richtet sich an Literaturinteressierte\, Kulturfreunde und Medienvertreter\, Eintritt frei – Spenden erwünscht. \nQuelle Text:\nKabinett K2\nKönigstraße 34\n67655 Kaiserslautern\nInstagram: Kabinett K2 \n09.02.2026 \n#kaiserslautern #kaiserslauterngermany #Lautern #nachrichtenkl #ktown #klnews #pfalz #westpfalz
URL:https://www.nachrichten-kl.de/event/deutsch-spanische-autorenlesung-mit-yolanda-prieto-pardo/
LOCATION:Kabinett K2
ATTACH;FMTTYPE=image/jpeg:https://www.nachrichten-kl.de/wp-content/uploads/2026/02/Prieto_Spanische_Cousinen_GWV_CMYK-002.jpg
END:VEVENT
END:VCALENDAR