BEGIN:VCALENDAR
VERSION:2.0
PRODID:-//Nachrichten Kaiserslautern - ECPv6.15.20//NONSGML v1.0//EN
CALSCALE:GREGORIAN
METHOD:PUBLISH
X-WR-CALNAME:Nachrichten Kaiserslautern
X-ORIGINAL-URL:https://www.nachrichten-kl.de
X-WR-CALDESC:Veranstaltungen für Nachrichten Kaiserslautern
REFRESH-INTERVAL;VALUE=DURATION:PT1H
X-Robots-Tag:noindex
X-PUBLISHED-TTL:PT1H
BEGIN:VTIMEZONE
TZID:Europe/Berlin
BEGIN:DAYLIGHT
TZOFFSETFROM:+0100
TZOFFSETTO:+0200
TZNAME:CEST
DTSTART:20250330T010000
END:DAYLIGHT
BEGIN:STANDARD
TZOFFSETFROM:+0200
TZOFFSETTO:+0100
TZNAME:CET
DTSTART:20251026T010000
END:STANDARD
BEGIN:DAYLIGHT
TZOFFSETFROM:+0100
TZOFFSETTO:+0200
TZNAME:CEST
DTSTART:20260329T010000
END:DAYLIGHT
BEGIN:STANDARD
TZOFFSETFROM:+0200
TZOFFSETTO:+0100
TZNAME:CET
DTSTART:20261025T010000
END:STANDARD
BEGIN:DAYLIGHT
TZOFFSETFROM:+0100
TZOFFSETTO:+0200
TZNAME:CEST
DTSTART:20270328T010000
END:DAYLIGHT
BEGIN:STANDARD
TZOFFSETFROM:+0200
TZOFFSETTO:+0100
TZNAME:CET
DTSTART:20271031T010000
END:STANDARD
END:VTIMEZONE
BEGIN:VEVENT
DTSTART;TZID=Europe/Berlin:20260120T170000
DTEND;TZID=Europe/Berlin:20260120T180000
DTSTAMP:20260422T214449
CREATED:20260113T145451Z
LAST-MODIFIED:20260113T145451Z
UID:143951-1768928400-1768932000@www.nachrichten-kl.de
SUMMARY:„Freie Gedanken“ — Junge Ideen von jungen Menschen
DESCRIPTION:Vernissage: Dienstag\, 20. Januar 2026\, 17:00 Uhr\nOrt: Kabinett K2\, Königstraße 34\, 67655 Kaiserslautern\nAusstellungsdauer: 20. Januar 2026 – 31. Januar 2026 \nUnter dem Titel „Freie Gedanken“ präsentieren Oberstufenschüler:innen der Fachbereiche Bildende Kunst der Albert-Schweitzer-\, Hohenstaufen- und Rittersberg-Gymnasien eine frische\, ungeschminkte Sicht auf die Themen\, die die junge Generation bewegen. Die Ausstellung ist eine Hommage an heranwachsende Kreativität: Malerei\, Grafik\, Objektkunst zeigen einen vielfältigen Blick auf existenzielle Fragen der Menschheit\, Alltag\, Zukunftsvisionen\, experimentelle Formensprachen sowie architektonische Modellbauten.  \nDie Vernissage findet am 20. Januar 2026 um 17:00 Uhr im Kabinett K2\, Kaiserslautern\, Königstraße 34 statt. Die Ausstellung ist anschließend geöffnet vom 20. bis 31. Januar 2026 zu folgenden Zeiten: \nDonnerstag: 16:00 – 19:00 Uhr\nFreitag: 15:00 – 18:00 Uhr\nSamstag: 11:00 – 14:00 Uhr \n„Wir geben jungen Menschen Raum\, sich künstlerisch zu erproben und ihre Perspektiven öffentlich zu zeigen.“ — so die Fachbereiche Bildende Kunst. Die ausgestellten Arbeiten sind Ausdruck persönlicher Auseinandersetzungen und technischer Neugierde und laden ein zum Entdecken\, Diskutieren und Staunen. \n\n\n \nQuelle Text:\nKabinett K2\nKönigstraße 34\n67655 Kaiserslautern\nInstagram: Kabinett K2 \n13.01.2026 \n#kaiserslautern #kaiserslauterngermany #Lautern #nachrichtenkl #ktown #klnews #pfalz #westpfalz
URL:https://www.nachrichten-kl.de/event/freie-gedanken-junge-ideen-von-jungen-menschen/
LOCATION:Kabinett K2
ATTACH;FMTTYPE=image/png:https://www.nachrichten-kl.de/wp-content/uploads/2025/09/Kabinett-K2-Harald-Michel.png
END:VEVENT
END:VCALENDAR