BEGIN:VCALENDAR
VERSION:2.0
PRODID:-//Nachrichten Kaiserslautern - ECPv6.15.20//NONSGML v1.0//EN
CALSCALE:GREGORIAN
METHOD:PUBLISH
X-WR-CALNAME:Nachrichten Kaiserslautern
X-ORIGINAL-URL:https://www.nachrichten-kl.de
X-WR-CALDESC:Veranstaltungen für Nachrichten Kaiserslautern
REFRESH-INTERVAL;VALUE=DURATION:PT1H
X-Robots-Tag:noindex
X-PUBLISHED-TTL:PT1H
BEGIN:VTIMEZONE
TZID:Europe/Berlin
BEGIN:DAYLIGHT
TZOFFSETFROM:+0100
TZOFFSETTO:+0200
TZNAME:CEST
DTSTART:20250330T010000
END:DAYLIGHT
BEGIN:STANDARD
TZOFFSETFROM:+0200
TZOFFSETTO:+0100
TZNAME:CET
DTSTART:20251026T010000
END:STANDARD
BEGIN:DAYLIGHT
TZOFFSETFROM:+0100
TZOFFSETTO:+0200
TZNAME:CEST
DTSTART:20260329T010000
END:DAYLIGHT
BEGIN:STANDARD
TZOFFSETFROM:+0200
TZOFFSETTO:+0100
TZNAME:CET
DTSTART:20261025T010000
END:STANDARD
BEGIN:DAYLIGHT
TZOFFSETFROM:+0100
TZOFFSETTO:+0200
TZNAME:CEST
DTSTART:20270328T010000
END:DAYLIGHT
BEGIN:STANDARD
TZOFFSETFROM:+0200
TZOFFSETTO:+0100
TZNAME:CET
DTSTART:20271031T010000
END:STANDARD
END:VTIMEZONE
BEGIN:VEVENT
DTSTART;TZID=Europe/Berlin:20260426T110000
DTEND;TZID=Europe/Berlin:20260426T120000
DTSTAMP:20260426T012724
CREATED:20260412T092858Z
LAST-MODIFIED:20260412T092858Z
UID:148422-1777201200-1777204800@www.nachrichten-kl.de
SUMMARY:Deutschlandfunk Kultur on Tour – der Tag mit Harald Schmidt\, Kammgarn
DESCRIPTION:Raus aus dem Studio\, rein ins Land. Deutschlandfunk Kultur ist wieder auf Tour. Nächster Halt: Kaiserslautern. Im Kulturzentrum Kammgarn sprechen der Kabarettist Harald Schmidt und Moderator Korbinian Frenzel über alles\, was Deutschland bewegt und beflügelt. Oder auch bremst und blockiert. Die Themen der Zeit – wie immer\, wenn Harald Schmidt zu Gast ist\, ohne Anspruch auf Ernsthaftigkeit. Dafür im Dialog mit dem Publikum. Was macht das Leben in Kaiserslautern lebenswert? Wo liegen die Probleme? Wie geht es weiter nach der Wahl in Rheinland-Pfalz? Und ganz wichtig: Muss erst Otto Rehhagel aus der Trainer-Rente zurückkehren\, damit der 1. FC Kaiserslautern mal wieder Deutscher Meister wird?\nHarald Schmidt begann seine Karriere in den 1980er Jahren als Schauspieler und Kabarettist\, bevor er mit „Schmidteinander“ und „Die Harald Schmidt Show“ als Fernsehmoderator und Satiriker große Bekanntheit erlangte. Mit seinem Humor und seiner unnachahmlichen Art\, gesellschaftliche und politische Themen zu kommentieren\, prägte er über Jahre hinweg die deutsche Fernsehlandschaft. \nModeration: Korbinian Frenzel\nSonntag\n26.04.2026\nEinlass: 10:00 Uhr\nBeginn: 11:00 Uhr\nKasino\nInfo: Bestuhlt\nTickets\nVorverkauf: ab 9\,80 € \n\n\n \n\n—\nBitte prüfen Sie die Verfügbarkeit der Tickets unter www.kammgarn.de \nQuelle Text/Bild:\nKammgarn GmbH\nSchoenstr. 10\n67659 Kaiserslautern \nwww.kammgarn.de \nKaiserslautern\, 12.04.2026 \n#kammgarn #kaiserslautern #kaiserslauterngermany #nachrichtenkl #Lautern #nachrichtenkl #ktown #klnews #pfalz #westpfalz
URL:https://www.nachrichten-kl.de/event/deutschlandfunk-kultur-on-tour-der-tag-mit-harald-schmidt-kammgarn/
LOCATION:Kammgarn Kaiserslautern\, Schoenstrasse 10\, Kaiserslautern\, 67659\, Deutschland
ATTACH;FMTTYPE=image/jpeg:https://www.nachrichten-kl.de/wp-content/uploads/2026/04/csm_DLFK_On-Tour_2000x1125_Harald-Schmidt_2026_6b6723ac08.jpg
END:VEVENT
END:VCALENDAR