BEGIN:VCALENDAR
VERSION:2.0
PRODID:-//Nachrichten Kaiserslautern - ECPv6.15.20//NONSGML v1.0//EN
CALSCALE:GREGORIAN
METHOD:PUBLISH
X-WR-CALNAME:Nachrichten Kaiserslautern
X-ORIGINAL-URL:https://www.nachrichten-kl.de
X-WR-CALDESC:Veranstaltungen für Nachrichten Kaiserslautern
REFRESH-INTERVAL;VALUE=DURATION:PT1H
X-Robots-Tag:noindex
X-PUBLISHED-TTL:PT1H
BEGIN:VTIMEZONE
TZID:Europe/Berlin
BEGIN:DAYLIGHT
TZOFFSETFROM:+0100
TZOFFSETTO:+0200
TZNAME:CEST
DTSTART:20250330T010000
END:DAYLIGHT
BEGIN:STANDARD
TZOFFSETFROM:+0200
TZOFFSETTO:+0100
TZNAME:CET
DTSTART:20251026T010000
END:STANDARD
BEGIN:DAYLIGHT
TZOFFSETFROM:+0100
TZOFFSETTO:+0200
TZNAME:CEST
DTSTART:20260329T010000
END:DAYLIGHT
BEGIN:STANDARD
TZOFFSETFROM:+0200
TZOFFSETTO:+0100
TZNAME:CET
DTSTART:20261025T010000
END:STANDARD
BEGIN:DAYLIGHT
TZOFFSETFROM:+0100
TZOFFSETTO:+0200
TZNAME:CEST
DTSTART:20270328T010000
END:DAYLIGHT
BEGIN:STANDARD
TZOFFSETFROM:+0200
TZOFFSETTO:+0100
TZNAME:CET
DTSTART:20271031T010000
END:STANDARD
END:VTIMEZONE
BEGIN:VEVENT
DTSTART;TZID=Europe/Berlin:20260424T200000
DTEND;TZID=Europe/Berlin:20260424T210000
DTSTAMP:20260424T012618
CREATED:20260412T092631Z
LAST-MODIFIED:20260412T092631Z
UID:148411-1777060800-1777064400@www.nachrichten-kl.de
SUMMARY:Hardline\, Kammgarn
DESCRIPTION:Hardline ist eine US-amerikanische Rockband\, die 1992 gegründet wurde. Bekannt für ihre Mischung aus Hard Rock und melodischem Metal\, erregten sie zunächst mit ihrem Debütalbum Double Eclipse im Jahr 1992 Aufmerksamkeit. Die ursprüngliche Besetzung der Band bestand aus dem kraftvollen Sänger Johnny Gioeli\, dem Gitarristen Neal Schon (von Journey) und dem Schlagzeuger Deen Castronovo (ebenfalls von Journey). Diese hochkarätige Formation trug maßgeblich zum frühen Erfolg der Band bei und verlieh ihrer Musik einen ausgefeilten\, kommerziellen Klang.\nDouble Eclipse enthielt mehrere Hits\, darunter die beliebten Songs „Hot Cherie“ und „Takin‘ Me Down“\, die dazu beitrugen\, Hardlines Ruf als Band zu festigen\, die eingängige und zugleich kraftvolle Rock-Hymnen liefern kann. Die Kombination aus melodischen Hooks und ausdrucksstarkem Gesang schuf einen unverwechselbaren Sound\, der sowohl Fans von Arena Rock als auch von melodischem Metal ansprach.\nNach dem anfänglichen Erfolg von Double Eclipse hatte die Band jedoch mit Besetzungswechseln und Phasen der Inaktivität zu kämpfen. Trotz dieser Herausforderungen blieb Johnny Gioeli die treibende Kraft hinter Hardline\, und die Band veröffentlichte weiterhin Alben\, darunter II (2002)\, Leaving the End Open (2009)\, Danger Zone (2012)\, Life (2016) und Heart\, Mind and Soul (2021). Diese Alben zeigen die Weiterentwicklung der Band\, ohne dabei ihren charakteristischen Stil aus melodischem\, kraftvollem Rock und Gioelis unverwechselbarer Stimme zu verlieren. \nDer Sound von Hardline zeichnet sich durch eine energiegeladene Mischung aus melodischem Rock\, kraftvollem Gesang und klassischen Rockeinflüssen aus. Im Laufe der Jahre konnte die Band trotz wechselnder Besetzungen eine treue Fangemeinde halten\, und ihre Musik spiegelt weiterhin ihre Wurzeln in der Hard-Rock- und Melodic-Metal-Szene der 1980er- und 1990er-Jahre wider. \n\n\n \nDie Band ist bis heute aktiv und bekannt für ihre leidenschaftlichen Live-Auftritte sowie ihre Fähigkeit\, Musik zu schaffen\, die sowohl Fans des klassischen Hard Rock als auch des modernen melodischen Metal anspricht.\nHardline besteht aus:\nLuca Princiotta\nAlessandro del Vecchio\nJohnny Gioeli\nAnna Portalupi\nMarco di Salvia \nThe Next Chapter Tour 2026\nSpecial Guest: Sevi\nFreitag\n24.04.2026\nEinlass: 19:00 Uhr\nBeginn: 20:00 Uhr\nCotton Club\nInfo: Unbestuhlt\nTickets\nVorverkauf: ab 39\,40 € \n\n—\nBitte prüfen Sie die Verfügbarkeit der Tickets unter www.kammgarn.de \nQuelle Text/Bild:\nKammgarn GmbH\nSchoenstr. 10\n67659 Kaiserslautern \nwww.kammgarn.de \nKaiserslautern\, 12.04.2026 \n#kammgarn #kaiserslautern #kaiserslauterngermany #nachrichtenkl #Lautern #nachrichtenkl #ktown #klnews #pfalz #westpfalz
URL:https://www.nachrichten-kl.de/event/hardline-kammgarn/
LOCATION:Kammgarn Kaiserslautern\, Schoenstrasse 10\, Kaiserslautern\, 67659\, Deutschland
ATTACH;FMTTYPE=image/jpeg:https://www.nachrichten-kl.de/wp-content/uploads/2026/04/csm_Hardline_2025_1_c05dcc2f1b.jpg
END:VEVENT
END:VCALENDAR